BEGIN:VCALENDAR
VERSION:2.0
PRODID:-ABConcerts-events
METHOD:PUBLISH
BEGIN:VEVENT
TRANSP:OPAQUE
DTSTART:20131020T200000
DTEND:20131020T223000
SUMMARY:CHVRCHES + Thumpers
LOCATION:AB Box (Anspachlaan 110\, 1000 Brussel)
DESCRIPTION:BBC Sound of 2013 revelation or: Robyn meets The Knife
URL;VALUE=URI:https://www.abconcerts.be/en/agenda/chvrches-thumpers/a105J000001wgrQQAQ
UID:ABConcerts_event_12dc0f7a-59a0-11eb-a73e-5254eb761bff
SEQUENCE:0
DTSTAMP:20260419T235822Z
END:VEVENT
END:VCALENDAR
