BEGIN:VCALENDAR
VERSION:2.0
PRODID:-ABConcerts-events
METHOD:PUBLISH
BEGIN:VEVENT
TRANSP:OPAQUE
DTSTART:20130626T200000
DTEND:20130626T223000
SUMMARY:Cat Power + Maya's Moving Castle
LOCATION:AB Grote zaal (Anspachlaan 110\, 1000 Brussel)
DESCRIPTION:A reborn Cat Power bathes in the light of the 'Sun'
URL;VALUE=URI:https://www.abconcerts.be/en/agenda/cat-power-mayas-moving-castle/a105J000001wdwZQAQ
UID:ABConcerts_event_7ebb0b80-599e-11eb-a8ca-5254eb761bff
SEQUENCE:0
DTSTAMP:20260419T192409Z
END:VEVENT
END:VCALENDAR
