BEGIN:VCALENDAR
VERSION:2.0
PRODID:-ABConcerts-events
METHOD:PUBLISH
BEGIN:VEVENT
TRANSP:OPAQUE
DTSTART:20170406T200000
DTEND:20170406T223000
SUMMARY:Carla dal Forno + Miaux
LOCATION:AB Salon - zittend (Steenstraat 11\, 1000 Brussel)
DESCRIPTION:Double bill with two impressive female electronica artists
URL;VALUE=URI:https://www.abconcerts.be/en/agenda/carla-dal-forno-miaux/a105J000001wdQHQAY
UID:ABConcerts_event_b85e55f2-59a0-11eb-add3-5254eb761bff
SEQUENCE:0
DTSTAMP:20260423T005937Z
END:VEVENT
END:VCALENDAR
