BEGIN:VCALENDAR
VERSION:2.0
PRODID:-ABConcerts-events
METHOD:PUBLISH
BEGIN:VEVENT
TRANSP:OPAQUE
DTSTART:20200317T200000
DTEND:20200317T223000
SUMMARY:Cancelled: Scarypoolparty
LOCATION:AB Club - staand (Anspachlaan 110\, 1000 Brussel)
DESCRIPTION:Authentic singer-songwriter seeks electronica
URL;VALUE=URI:https://www.abconcerts.be/en/agenda/cancelled-scarypoolparty/a105J000001wd3rQAA
UID:ABConcerts_event_27866c46-599f-11eb-9b2d-5254eb761bff
SEQUENCE:0
DTSTAMP:20260421T205503Z
END:VEVENT
END:VCALENDAR
