BEGIN:VCALENDAR
VERSION:2.0
PRODID:-ABConcerts-events
METHOD:PUBLISH
BEGIN:VEVENT
TRANSP:OPAQUE
DTSTART:20250412T184500
DTEND:20250412T223000
SUMMARY:Cali
LOCATION:AB Grote zaal (Anspachlaan 110\, 1000 Brussel)
DESCRIPTION:20 years of d'Amour Parfait!
URL;VALUE=URI:https://www.abconcerts.be/en/agenda/cali/a10Qw000001cKy1IAE
UID:ABConcerts_event_1ef8d370-bd0e-68c6-a803-2dff1a645397
SEQUENCE:0
DTSTAMP:20260423T191846Z
END:VEVENT
END:VCALENDAR
