BEGIN:VCALENDAR
VERSION:2.0
PRODID:-ABConcerts-events
METHOD:PUBLISH
BEGIN:VEVENT
TRANSP:OPAQUE
DTSTART:20150427T193000
DTEND:20150427T223000
SUMMARY:Calexico
LOCATION:AB Grote zaal (Anspachlaan 110\, 1000 Brussel)
DESCRIPTION:Fourth AB visit from our favourite party band
URL;VALUE=URI:https://www.abconcerts.be/en/agenda/calexico/a105J000001wdluQAA
UID:ABConcerts_event_7bd73506-599e-11eb-bd76-5254eb761bff
SEQUENCE:0
DTSTAMP:20260421T181838Z
END:VEVENT
END:VCALENDAR
