BEGIN:VCALENDAR
VERSION:2.0
PRODID:-ABConcerts-events
METHOD:PUBLISH
BEGIN:VEVENT
TRANSP:OPAQUE
DTSTART:20250321T190000
DTEND:20250321T223000
SUMMARY:Caballero & JeanJass
LOCATION:AB Grote zaal (Anspachlaan 110\, 1000 Brussel)
DESCRIPTION:After the success of seasons 3 &amp; 4\, Caballero &amp;\nJeanJass will soon be back with a brand new season of High\n&amp; Fines Herbes. They again united the crème de la\ncrème of Belgian/ French beatmakers to release an album\nfull of energy and with a progressive sound. The duo will\narrive for an event tour full of surprises and aromatic\nherbs! &copy; concert pictures by Mao Atth
URL;VALUE=URI:https://www.abconcerts.be/en/agenda/caballero-jeanjass/a10Qw000000cfi7IAA
UID:ABConcerts_event_1ef2cab9-b535-6804-9bd5-c5e7f53ffd1a
SEQUENCE:0
DTSTAMP:20260421T190630Z
END:VEVENT
END:VCALENDAR
