BEGIN:VCALENDAR
VERSION:2.0
PRODID:-ABConcerts-events
METHOD:PUBLISH
BEGIN:VEVENT
TRANSP:OPAQUE
DTSTART:20180407T160000
DTEND:20180407T174500
SUMMARY:Bunch Of Kunst: A Film about Sleaford Mods
LOCATION:AB Club - staand (Anspachlaan 110\, 1000 Brussel)
DESCRIPTION:BRDCST: ‘Best film’ (Q Awards)\, **** (The Guardian/Time\nOut/Mojo/Sunday Times)
URL;VALUE=URI:https://www.abconcerts.be/en/agenda/bunch-of-kunst-a-film-about-sleaford-mods/a105J000001wdIzQAI
UID:ABConcerts_event_71a02654-59a0-11eb-ae15-5254eb761bff
SEQUENCE:0
DTSTAMP:20260419T205118Z
END:VEVENT
END:VCALENDAR
