BEGIN:VCALENDAR
VERSION:2.0
PRODID:-ABConcerts-events
METHOD:PUBLISH
BEGIN:VEVENT
TRANSP:OPAQUE
DTSTART:20130614T200000
DTEND:20130614T223000
SUMMARY:Broken Twin
LOCATION:AB Salon - zittend (Steenstraat 11\, 1000 Brussel)
DESCRIPTION:Fragile\, soulful songs full of mystery and melancholy
URL;VALUE=URI:https://www.abconcerts.be/en/agenda/broken-twin/a105J000001wgrRQAQ
UID:ABConcerts_event_12e7114a-59a0-11eb-8bec-5254eb761bff
SEQUENCE:0
DTSTAMP:20260419T180246Z
END:VEVENT
END:VCALENDAR
