BEGIN:VCALENDAR
VERSION:2.0
PRODID:-ABConcerts-events
METHOD:PUBLISH
BEGIN:VEVENT
TRANSP:OPAQUE
DTSTART:20140331T200000
DTEND:20140331T223000
SUMMARY:Broken Bells + Gardens & Villa
LOCATION:AB Flex (Anspachlaan 110\, 1000 Brussel)
DESCRIPTION:The Shins\, Gnarles Barkley and a dash of pop in the\nblender!
URL;VALUE=URI:https://www.abconcerts.be/en/agenda/broken-bells-gardens-villa/a105J000001we4yQAA
UID:ABConcerts_event_9436dec4-59a0-11eb-b25d-5254eb761bff
SEQUENCE:0
DTSTAMP:20260422T170214Z
END:VEVENT
END:VCALENDAR
