BEGIN:VCALENDAR
VERSION:2.0
PRODID:-ABConcerts-events
METHOD:PUBLISH
BEGIN:VEVENT
TRANSP:OPAQUE
DTSTART:20131113T200000
DTEND:20131113T223000
SUMMARY:Bring Me The Horizon + Special Guest Pierce The Veil + Sight
s & Sounds
LOCATION:AB Grote zaal (Anspachlaan 110\, 1000 Brussel)
DESCRIPTION:Moshpit-o'clock and metalcore-mayhem with BMTH!
URL;VALUE=URI:https://www.abconcerts.be/en/agenda/bring-me-the-horizon-special-guest-pierce-the-veil-sights-sounds/a105J000001weDHQAY
UID:ABConcerts_event_ae59681c-59a0-11eb-bb33-5254eb761bff
SEQUENCE:0
DTSTAMP:20260420T042248Z
END:VEVENT
END:VCALENDAR
