BEGIN:VCALENDAR
VERSION:2.0
PRODID:-ABConcerts-events
METHOD:PUBLISH
BEGIN:VEVENT
TRANSP:OPAQUE
DTSTART:20160405T200000
DTEND:20160405T223000
SUMMARY:Bring Me The Horizon - New date
LOCATION:AB Grote zaal (Anspachlaan 110\, 1000 Brussel)
DESCRIPTION:Approaching maturity with fifth album ‘That’s the\nSpirit’
URL;VALUE=URI:https://www.abconcerts.be/en/agenda/bring-me-the-horizon-new-date/a105J000001wdZiQAI
UID:ABConcerts_event_50ecb018-599f-11eb-8ce3-5254eb761bff
SEQUENCE:0
DTSTAMP:20260426T061848Z
END:VEVENT
END:VCALENDAR
