BEGIN:VCALENDAR
VERSION:2.0
PRODID:-ABConcerts-events
METHOD:PUBLISH
BEGIN:VEVENT
TRANSP:OPAQUE
DTSTART:20160325T180000
DTEND:20160325T223000
SUMMARY:BRDCST: Wonder Talk - Nigel House
LOCATION:AB Salon - zittend (Steenstraat 11\, 1000 Brussel)
DESCRIPTION:Nigel House - Rough Trade and its Album Of The Month\nselection
URL;VALUE=URI:https://www.abconcerts.be/en/agenda/brdcst-wonder-talk-nigel-house/a105J000001wdYCQAY
UID:ABConcerts_event_cd038806-59a0-11eb-b987-5254eb761bff
SEQUENCE:0
DTSTAMP:20260424T020201Z
END:VEVENT
END:VCALENDAR
