BEGIN:VCALENDAR
VERSION:2.0
PRODID:-ABConcerts-events
METHOD:PUBLISH
BEGIN:VEVENT
TRANSP:OPAQUE
DTSTART:20160324T173000
DTEND:20160324T223000
SUMMARY:BRDCST: Pop-up Bijenbar + Rough Trade 'Album Of The Month' S
election + Micro-Expo's
LOCATION:AB Complex (Anspachlaan 110\, 1000 Brussel)
DESCRIPTION:Throughout: musical extras as part of BRDCST
URL;VALUE=URI:https://www.abconcerts.be/en/agenda/brdcst-pop-up-bijenbar-rough-trade-album-of-the-month-selection-micro-expos/a105J000001wdXJQAY
UID:ABConcerts_event_b9d4b566-59a0-11eb-9b19-5254eb761bff
SEQUENCE:0
DTSTAMP:20260424T031324Z
END:VEVENT
END:VCALENDAR
