BEGIN:VCALENDAR
VERSION:2.0
PRODID:-ABConcerts-events
METHOD:PUBLISH
BEGIN:VEVENT
TRANSP:OPAQUE
DTSTART:20160325T173000
DTEND:20160325T223000
SUMMARY:BRDCST: Pop-up Bijenbar + Rough Trade 'Album Of The Month' S
election + micro-expo's
LOCATION:Steenstraat 25 (unknown\, 1000 Brussel)
DESCRIPTION:Throughout: musical extras as part of BRDCST
URL;VALUE=URI:https://www.abconcerts.be/en/agenda/brdcst-pop-up-bijenbar-rough-trade-album-of-the-month-selection-micro-expos/a105J000001wdXIQAY
UID:ABConcerts_event_b9c9013a-59a0-11eb-9b3f-5254eb761bff
SEQUENCE:0
DTSTAMP:20260424T015814Z
END:VEVENT
END:VCALENDAR
