BEGIN:VCALENDAR
VERSION:2.0
PRODID:-ABConcerts-events
METHOD:PUBLISH
BEGIN:VEVENT
TRANSP:OPAQUE
DTSTART:20180405T220000
DTEND:20180405T235500
SUMMARY:BRDCST: Nico, 1988 - Avant-première
LOCATION:Cinema Palace (Anspachlaan 85\, 1000 Brussel)
DESCRIPTION:“A surprisingly authentic biopic of a former Velvet\nUnderground star” - Variety
URL;VALUE=URI:https://www.abconcerts.be/en/agenda/brdcst-nico-1988-avant-premiere/a105J000001wdGWQAY
UID:ABConcerts_event_6f31e466-59a0-11eb-8829-5254eb761bff
SEQUENCE:0
DTSTAMP:20260419T221904Z
END:VEVENT
END:VCALENDAR
