BEGIN:VCALENDAR
VERSION:2.0
PRODID:-ABConcerts-events
METHOD:PUBLISH
BEGIN:VEVENT
TRANSP:OPAQUE
DTSTART:20180404T204500
DTEND:20180404T223000
SUMMARY:Bonaventure (NON Worldwide/PTP)
LOCATION:Bonnefooi (unknown\, 1000 Brussel)
DESCRIPTION:BRDCST: ‘Swiss-Congolese producer makes confrontational\nmusic.’ (The Fader)
URL;VALUE=URI:https://www.abconcerts.be/en/agenda/bonaventure-non-worldwideptp/a105J000001wdHxQAI
UID:ABConcerts_event_704490ce-59a0-11eb-a64e-5254eb761bff
SEQUENCE:0
DTSTAMP:20260419T221911Z
END:VEVENT
END:VCALENDAR
