BEGIN:VCALENDAR
VERSION:2.0
PRODID:-ABConcerts-events
METHOD:PUBLISH
BEGIN:VEVENT
TRANSP:OPAQUE
DTSTART:20221116T190000
DTEND:20221116T223000
SUMMARY:Bomba Estéreo
LOCATION:AB Grote zaal (Anspachlaan 110\, 1000 Brussel)
DESCRIPTION:Deja World Tour 2022
URL;VALUE=URI:https://www.abconcerts.be/en/agenda/bomba-estereo/a105J000004WYQ5QAO
UID:ABConcerts_event_7dee5994-c164-11ec-95a6-5254eb761bff
SEQUENCE:0
DTSTAMP:20260424T083114Z
END:VEVENT
END:VCALENDAR
