BEGIN:VCALENDAR
VERSION:2.0
PRODID:-ABConcerts-events
METHOD:PUBLISH
BEGIN:VEVENT
TRANSP:OPAQUE
DTSTART:20150617T190000
DTEND:20150617T223000
SUMMARY:Big Sean
LOCATION:AB Grote zaal (Anspachlaan 110\, 1000 Brussel)
DESCRIPTION:Mature\, intense and furious\, Big Sean at his best by far!
URL;VALUE=URI:https://www.abconcerts.be/en/agenda/big-sean/a105J000001wdctQAA
UID:ABConcerts_event_4ea61236-599f-11eb-a128-5254eb761bff
SEQUENCE:0
DTSTAMP:20260422T112357Z
END:VEVENT
END:VCALENDAR
