BEGIN:VCALENDAR
VERSION:2.0
PRODID:-ABConcerts-events
METHOD:PUBLISH
BEGIN:VEVENT
TRANSP:OPAQUE
DTSTART:20151119T193000
DTEND:20151119T223000
SUMMARY:Beth Hart
LOCATION:AB Grote zaal (Anspachlaan 110\, 1000 Brussel)
DESCRIPTION:Beth Hart in concert
URL;VALUE=URI:https://www.abconcerts.be/en/agenda/beth-hart/a105J000001wdcsQAA
UID:ABConcerts_event_4e9d561e-599f-11eb-b7aa-5254eb761bff
SEQUENCE:0
DTSTAMP:20260420T191750Z
END:VEVENT
END:VCALENDAR
