BEGIN:VCALENDAR
VERSION:2.0
PRODID:-ABConcerts-events
METHOD:PUBLISH
BEGIN:VEVENT
TRANSP:OPAQUE
DTSTART:20231101T190000
DTEND:20231101T223000
SUMMARY:Bert Dockx Band
LOCATION:AB Club - staand (Anspachlaan 110\, 1000 Brussel)
DESCRIPTION:New project by Dans Dans and Flying Horseman frontman
URL;VALUE=URI:https://www.abconcerts.be/en/agenda/bert-dockx-band/a105J000008G9tFQAS
UID:ABConcerts_event_0ba6a7e2-05d3-11ee-a511-5254eb761bff
SEQUENCE:0
DTSTAMP:20260420T022900Z
END:VEVENT
END:VCALENDAR
