BEGIN:VCALENDAR
VERSION:2.0
PRODID:-ABConcerts-events
METHOD:PUBLISH
BEGIN:VEVENT
TRANSP:OPAQUE
DTSTART:20131127T200000
DTEND:20131127T223000
SUMMARY:Bastille + To Kill A King
LOCATION:AB Grote zaal (Anspachlaan 110\, 1000 Brussel)
DESCRIPTION:Hyper-catchy synth-smothered pop gems!
URL;VALUE=URI:https://www.abconcerts.be/en/agenda/bastille-to-kill-a-king/a105J000001wgrXQAQ
UID:ABConcerts_event_1597065c-59a0-11eb-8c9e-5254eb761bff
SEQUENCE:0
DTSTAMP:20260420T053715Z
END:VEVENT
END:VCALENDAR
