BEGIN:VCALENDAR
VERSION:2.0
PRODID:-ABConcerts-events
METHOD:PUBLISH
BEGIN:VEVENT
TRANSP:OPAQUE
DTSTART:20141203T200000
DTEND:20141203T223000
SUMMARY:Autoluminescent: Rowland S. Howard
LOCATION:AB Salon - zittend (Steenstraat 11\, 1000 Brussel)
DESCRIPTION:an amazing documentary
URL;VALUE=URI:https://www.abconcerts.be/en/agenda/autoluminescent-rowland-s-howard/a105J000001wdmJQAQ
UID:ABConcerts_event_805bba3c-59a0-11eb-b05a-5254eb761bff
SEQUENCE:0
DTSTAMP:20260423T091353Z
END:VEVENT
END:VCALENDAR
