BEGIN:VCALENDAR
VERSION:2.0
PRODID:-ABConcerts-events
METHOD:PUBLISH
BEGIN:VEVENT
TRANSP:OPAQUE
DTSTART:20160401T200000
DTEND:20160401T223000
SUMMARY:At the Drive-In
LOCATION:AB Grote zaal (Anspachlaan 110\, 1000 Brussel)
DESCRIPTION:The most ground-breaking band of the 90’s cranks it out!
URL;VALUE=URI:https://www.abconcerts.be/en/agenda/at-the-drive-in/a105J000001wdWrQAI
UID:ABConcerts_event_ad59841a-59a0-11eb-ba1e-5254eb761bff
SEQUENCE:0
DTSTAMP:20260424T002843Z
END:VEVENT
END:VCALENDAR
