BEGIN:VCALENDAR
VERSION:2.0
PRODID:-ABConcerts-events
METHOD:PUBLISH
BEGIN:VEVENT
TRANSP:OPAQUE
DTSTART:20161012T180000
DTEND:20161012T190000
SUMMARY:Artist talk Steel Panther
LOCATION:AB Salon - zittend (Steenstraat 11\, 1000 Brussel)
DESCRIPTION:Steel Panther x Goe Vur In Den Otto = double power!
URL;VALUE=URI:https://www.abconcerts.be/en/agenda/artist-talk-steel-panther/a105J000001wdS7QAI
UID:ABConcerts_event_c46db45a-59a0-11eb-ac88-5254eb761bff
SEQUENCE:0
DTSTAMP:20260423T135204Z
END:VEVENT
END:VCALENDAR
