BEGIN:VCALENDAR
VERSION:2.0
PRODID:-ABConcerts-events
METHOD:PUBLISH
BEGIN:VEVENT
TRANSP:OPAQUE
DTSTART:20161021T180000
DTEND:20161021T223000
SUMMARY:Artist talk: Robin Proper-Sheppard
LOCATION:AB Salon - zittend (Steenstraat 11\, 1000 Brussel)
DESCRIPTION:Interview with Sophia-captain Robin Proper-Sheppard
URL;VALUE=URI:https://www.abconcerts.be/en/agenda/artist-talk-robin-proper-sheppard/a105J000001wdRoQAI
UID:ABConcerts_event_beacf576-59a0-11eb-a495-5254eb761bff
SEQUENCE:0
DTSTAMP:20260423T135137Z
END:VEVENT
END:VCALENDAR
