BEGIN:VCALENDAR
VERSION:2.0
PRODID:-ABConcerts-events
METHOD:PUBLISH
BEGIN:VEVENT
TRANSP:OPAQUE
DTSTART:20170606T180000
DTEND:20170606T223000
SUMMARY:Artist Talk: Buffalo Tom - Marnix Peeters
LOCATION:AB Salon - zittend (Steenstraat 11\, 1000 Brussel)
DESCRIPTION:Marnix Peeters in conversation with the band
URL;VALUE=URI:https://www.abconcerts.be/en/agenda/artist-talk-buffalo-tom-marnix-peeters/a105J000001wdOTQAY
UID:ABConcerts_event_785ca82a-599e-11eb-a67d-5254eb761bff
SEQUENCE:0
DTSTAMP:20260422T185623Z
END:VEVENT
END:VCALENDAR
