BEGIN:VCALENDAR
VERSION:2.0
PRODID:-ABConcerts-events
METHOD:PUBLISH
BEGIN:VEVENT
TRANSP:OPAQUE
DTSTART:20161013T200000
DTEND:20161013T223000
SUMMARY:Arno
LOCATION:AB Grote zaal (Anspachlaan 110\, 1000 Brussel)
DESCRIPTION:Human Incognito': new CD\, 'old motherfucker'
URL;VALUE=URI:https://www.abconcerts.be/en/agenda/arno/a105J000001wdWPQAY
UID:ABConcerts_event_61fe3288-599e-11eb-a598-5254eb761bff
SEQUENCE:0
DTSTAMP:20260423T134705Z
END:VEVENT
END:VCALENDAR
