BEGIN:VCALENDAR
VERSION:2.0
PRODID:-ABConcerts-events
METHOD:PUBLISH
BEGIN:VEVENT
TRANSP:OPAQUE
DTSTART:20130622T203000
DTEND:20130622T020000
SUMMARY:An evening with PELICAN FLY feat. Cashmere Cat - Richelle - 
DJ Slow - Mister Tweeks
LOCATION:AB Club - staand (Anspachlaan 110\, 1000 Brussel)
DESCRIPTION:Brussels label scores worldwide and celebrates!
URL;VALUE=URI:https://www.abconcerts.be/en/agenda/an-evening-with-pelican-fly-feat-cashmere-cat-richelle-dj-slow-mister-tweeks/a105J000001wgr6QAA
UID:ABConcerts_event_2a839f26-59a0-11eb-8895-5254eb761bff
SEQUENCE:0
DTSTAMP:20260419T193309Z
END:VEVENT
END:VCALENDAR
