BEGIN:VCALENDAR
VERSION:2.0
PRODID:-ABConcerts-events
METHOD:PUBLISH
BEGIN:VEVENT
TRANSP:OPAQUE
DTSTART:20250102T130000
DTEND:20250102T220000
SUMMARY:Ambtenarenbal 2025
LOCATION:AB Grote zaal (Anspachlaan 110\, 1000 Brussel)
DESCRIPTION:Traditionally\, the first working day of the new year sees\nthe &#39;New Year&#39;s Ball&#39; (also known as\nofficials&#39; ball).This year\, too\, this ball will open\nits doors on Tuesday 2 January from 1 pm at Ancienne\nBelgique in Brussels (Anspachlaan 110).Tickets can be bought\nat the box office on 02/01. Everyone is welcome!
URL;VALUE=URI:https://www.abconcerts.be/en/agenda/ambtenarenbal-2025/a10Qw000001B8JRIA0
UID:ABConcerts_event_1ef86fd1-6835-64ce-9b36-0921be92bcbb
SEQUENCE:0
DTSTAMP:20260421T033150Z
END:VEVENT
END:VCALENDAR
