BEGIN:VCALENDAR
VERSION:2.0
PRODID:-ABConcerts-events
METHOD:PUBLISH
BEGIN:VEVENT
TRANSP:OPAQUE
DTSTART:20131005T200000
DTEND:20131005T223000
SUMMARY:Amatorski + Astronaute
LOCATION:AB Salon - zittend (Steenstraat 11\, 1000 Brussel)
DESCRIPTION:A collaboration between AB and Flagey
URL;VALUE=URI:https://www.abconcerts.be/en/agenda/amatorski-astronaute/a105J000001wgrMQAQ
UID:ABConcerts_event_10bdd156-59a0-11eb-a487-5254eb761bff
SEQUENCE:0
DTSTAMP:20260419T235710Z
END:VEVENT
END:VCALENDAR
