BEGIN:VCALENDAR
VERSION:2.0
PRODID:-ABConcerts-events
METHOD:PUBLISH
BEGIN:VEVENT
TRANSP:OPAQUE
DTSTART:20231206T190000
DTEND:20231206T223000
SUMMARY:All Things Sdban with schroothoop, LũpḁGangGang & KAU
LOCATION:AB Club - staand (Anspachlaan 110\, 1000 Brussel)
DESCRIPTION:Label night around Ghent's quality jazz label
URL;VALUE=URI:https://www.abconcerts.be/en/agenda/all-things-sdban-with-schroothoop-lpganggang-kau/a105J000007gBxMQAU
UID:ABConcerts_event_205958ee-2089-11ee-9394-52547ec8b846
SEQUENCE:0
DTSTAMP:20260422T123738Z
END:VEVENT
END:VCALENDAR
