BEGIN:VCALENDAR
VERSION:2.0
PRODID:-ABConcerts-events
METHOD:PUBLISH
BEGIN:VEVENT
TRANSP:OPAQUE
DTSTART:20131022T200000
DTEND:20131022T220000
SUMMARY:All Connected # 1: Daniël de Wereldvermaarde Botanicus + Sc
reening Makino Takashi + W Ravenveer + Eliane Radigue docu
LOCATION:AB Salon - zittend (Steenstraat 11\, 1000 Brussel)
DESCRIPTION:Modular synths\, projections\, lectures\, all connected!
URL;VALUE=URI:https://www.abconcerts.be/en/agenda/all-connected-1-daniel-de-wereldvermaarde-botanicus-screening-makino-takashi-w-ravenveer-eliane-radigue-docu/a105J000001wgskQAA
UID:ABConcerts_event_8df457a4-599f-11eb-89a7-5254eb761bff
SEQUENCE:0
DTSTAMP:20260420T013721Z
END:VEVENT
END:VCALENDAR
