BEGIN:VCALENDAR
VERSION:2.0
PRODID:-ABConcerts-events
METHOD:PUBLISH
BEGIN:VEVENT
TRANSP:OPAQUE
DTSTART:20260928T190000
DTEND:20260928T223000
SUMMARY:Alison Moyet
LOCATION:AB Grote zaal (Anspachlaan 110\, 1000 Brussel)
DESCRIPTION:'An eclectic mix that brings together different flavours'
URL;VALUE=URI:https://www.abconcerts.be/en/agenda/alison-moyet/a10Qw00000GT8vSIAT
UID:ABConcerts_event_1f116f18-6b13-6da8-b94b-bd9aafd8a7ad
SEQUENCE:0
DTSTAMP:20260424T200451Z
END:VEVENT
END:VCALENDAR
