BEGIN:VCALENDAR
VERSION:2.0
PRODID:-ABConcerts-events
METHOD:PUBLISH
BEGIN:VEVENT
TRANSP:OPAQUE
DTSTART:20141208T220000
DTEND:20141208T233000
SUMMARY:Aftershow Jungle: STUFF. ( Artist In Residence )
LOCATION:AB Club - staand (Anspachlaan 110\, 1000 Brussel)
DESCRIPTION:Artist In Residence remixes Jungle’s ‘The Heat’ live!
URL;VALUE=URI:https://www.abconcerts.be/en/agenda/aftershow-jungle-stuff-artist-in-residence/a105J000001wdlgQAA
UID:ABConcerts_event_986a269a-59a0-11eb-a099-5254eb761bff
SEQUENCE:0
DTSTAMP:20260423T103610Z
END:VEVENT
END:VCALENDAR
