BEGIN:VCALENDAR
VERSION:2.0
PRODID:-ABConcerts-events
METHOD:PUBLISH
BEGIN:VEVENT
TRANSP:OPAQUE
DTSTART:20150525T200000
DTEND:20150525T223000
SUMMARY:ABClubcircuit - Cactus @ AB: Shamir (BBC Sound of 2015)
LOCATION:AB Club - staand (Anspachlaan 110\, 1000 Brussel)
DESCRIPTION:Singer\, rapper\, twerker\, chef\, writer\, skinny fat\nass\,…
URL;VALUE=URI:https://www.abconcerts.be/en/agenda/abclubcircuit-cactus-ab-shamir-bbc-sound-of-2015/a105J000001wdjdQAA
UID:ABConcerts_event_867ee772-59a0-11eb-a42c-5254eb761bff
SEQUENCE:0
DTSTAMP:20260423T195547Z
END:VEVENT
END:VCALENDAR
