BEGIN:VCALENDAR
VERSION:2.0
PRODID:-ABConcerts-events
METHOD:PUBLISH
BEGIN:VEVENT
TRANSP:OPAQUE
DTSTART:20141122T210000
DTEND:20141122T230000
SUMMARY:AB & Beursschouwburg: Trans Am
LOCATION:Externe Locatie (unknown\, 1000 Brussel)
DESCRIPTION:Post-rock legends present their tenth album ‘Volume X’.
URL;VALUE=URI:https://www.abconcerts.be/en/agenda/ab-beursschouwburg-trans-am/a105J000001wgvSQAQ
UID:ABConcerts_event_3ea81cc0-59a0-11eb-8f39-5254eb761bff
SEQUENCE:0
DTSTAMP:20260423T091353Z
END:VEVENT
END:VCALENDAR
