BEGIN:VCALENDAR
VERSION:2.0
PRODID:-ABConcerts-events
METHOD:PUBLISH
BEGIN:VEVENT
TRANSP:OPAQUE
DTSTART:20140225T200000
DTEND:20140225T223000
SUMMARY:AB & Beursschouwburg: Tera Melos
LOCATION:AB Salon - zittend (Steenstraat 11\, 1000 Brussel)
DESCRIPTION:In the spirit of Beefheart\, Beach Boys\, Pinback and Zappa!
URL;VALUE=URI:https://www.abconcerts.be/en/agenda/ab-beursschouwburg-tera-melos/a105J000001wgtAQAQ
UID:ABConcerts_event_994e11c6-599f-11eb-9c74-5254eb761bff
SEQUENCE:0
DTSTAMP:20260422T123738Z
END:VEVENT
END:VCALENDAR
