BEGIN:VCALENDAR
VERSION:2.0
PRODID:-ABConcerts-events
METHOD:PUBLISH
BEGIN:VEVENT
TRANSP:OPAQUE
DTSTART:20131129T210000
DTEND:20131129T230000
SUMMARY:AB & Beursschouwburg: Cut Copy + Shine 2009
LOCATION:AB Salon - zittend (Steenstraat 11\, 1000 Brussel)
DESCRIPTION:AB & Beursschouwburg get together
URL;VALUE=URI:https://www.abconcerts.be/en/agenda/ab-beursschouwburg-cut-copy-shine-2009/a105J000001wgsbQAA
UID:ABConcerts_event_2f3d043a-59a0-11eb-960f-5254eb761bff
SEQUENCE:0
DTSTAMP:20260420T053942Z
END:VEVENT
END:VCALENDAR
