BEGIN:VCALENDAR
VERSION:2.0
PRODID:-ABConcerts-events
METHOD:PUBLISH
BEGIN:VEVENT
TRANSP:OPAQUE
DTSTART:20141121T140000
DTEND:20141121T170000
SUMMARY:AB & ARS MUSICA present: Colloquium New Instrumental Gesture
s and Idioms
LOCATION:AB Salon - zittend (Steenstraat 11\, 1000 Brussel)
DESCRIPTION:Colloquium New Instrumental Gestures and Idioms
URL;VALUE=URI:https://www.abconcerts.be/en/agenda/ab-ars-musica-present-colloquium-new-instrumental-gestures-and-idioms/a105J000001wgwmQAA
UID:ABConcerts_event_7162fe88-599f-11eb-9421-5254eb761bff
SEQUENCE:0
DTSTAMP:20260423T080005Z
END:VEVENT
END:VCALENDAR
